BEGIN:VCALENDAR
VERSION:2.0
PRODID:-//Range 54 - ECPv6.15.18//NONSGML v1.0//EN
CALSCALE:GREGORIAN
METHOD:PUBLISH
X-WR-CALNAME:Range 54
X-ORIGINAL-URL:https://range54.com
X-WR-CALDESC:Events for Range 54
REFRESH-INTERVAL;VALUE=DURATION:PT1H
X-Robots-Tag:noindex
X-PUBLISHED-TTL:PT1H
BEGIN:VTIMEZONE
TZID:America/Chicago
BEGIN:DAYLIGHT
TZOFFSETFROM:-0600
TZOFFSETTO:-0500
TZNAME:CDT
DTSTART:20250309T080000
END:DAYLIGHT
BEGIN:STANDARD
TZOFFSETFROM:-0500
TZOFFSETTO:-0600
TZNAME:CST
DTSTART:20251102T070000
END:STANDARD
BEGIN:DAYLIGHT
TZOFFSETFROM:-0600
TZOFFSETTO:-0500
TZNAME:CDT
DTSTART:20260308T080000
END:DAYLIGHT
BEGIN:STANDARD
TZOFFSETFROM:-0500
TZOFFSETTO:-0600
TZNAME:CST
DTSTART:20261101T070000
END:STANDARD
BEGIN:DAYLIGHT
TZOFFSETFROM:-0600
TZOFFSETTO:-0500
TZNAME:CDT
DTSTART:20270314T080000
END:DAYLIGHT
BEGIN:STANDARD
TZOFFSETFROM:-0500
TZOFFSETTO:-0600
TZNAME:CST
DTSTART:20271107T070000
END:STANDARD
END:VTIMEZONE
BEGIN:VEVENT
DTSTART;TZID=America/Chicago:20260504T180000
DTEND;TZID=America/Chicago:20260504T220000
DTSTAMP:20260423T103617
CREATED:20260326T193850Z
LAST-MODIFIED:20260326T193850Z
UID:10003047-1777917600-1777932000@range54.com
SUMMARY:Women Only Introductory Pistol
DESCRIPTION:This class gives female students the opportunity to learn how to shoot in a comfortable environment.\n\n\nCLASS: \n \nWomen Only Introductory Pistol \n \n \nThe total price of this course is $100.00 \n \n \n \nThis is a 4-hour guided experience which provides female students the opportunity to learn how to shoot in a comfortable environment\, surrounded by peers. Our instructors understand that everyone operates at different comfort levels around firearms and will work with students to ensure comfort while developing experience. Students will learn the 4 basic handgun safety rules\, safety at home and on the range\, proper shooting technique\, and discuss the gun that could best suit individual preferences and needs. \n \nGun and ammunition provided. \n \n \n \nClass fees are non-refundable. In the event you are unable to attend\, store credit will be given. \n \nRange 54 Members: to receive the Range 54 membership discount on classes\, please register in the store. Discount is not available online.
URL:https://range54.com/event/women-only-introductory-pistol-187/
LOCATION:Range 54\, 5725 East Kellogg Drive\, Wichita\, KS\, 67218\, United States
CATEGORIES:Training Classes
ATTACH;FMTTYPE=image/jpeg:https://range54.com/wp-content/uploads/2026/03/9d8a62961f3d4af697f61e457d9a28d0.jpg
END:VEVENT
BEGIN:VEVENT
DTSTART;TZID=America/Chicago:20260508T180000
DTEND;TZID=America/Chicago:20260509T120000
DTSTAMP:20260423T103617
CREATED:20260326T193931Z
LAST-MODIFIED:20260326T193931Z
UID:10003049-1778263200-1778328000@range54.com
SUMMARY:Kansas Carry Concealed
DESCRIPTION:This class meets the requirements of the State of Kansas to obtain a CCH license.\n\n\nCLASS: \n \nKANSAS CARRY CONCEALED \n \nThe total price of this course is $100.00 \n \nArm yourself with knowledge. All of us want to have the ability to be able to protect ourselves and the people we care about while understanding our personal responsibilities as law-abiding gun owners. Range 54 specifically created this course to accomplish these exact objectives. Our instructors are highly experienced in preparing people of all backgrounds to have the confidence\, knowledge and skills to be able to safely carry a concealed handgun. This class meets the requirements of the State of Kansas to obtain a CCH license. The license is also recognized in 36 other states. This class will be taught in women-only and co-ed formats for the comfort of our students. \n \nClass Schedule: \nFriday May 8\, 2025 6:00 PM – 10:00 PM \nSaturday May 9\, 2025 8:00 AM – 12:00 PM \nClass fees are non-refundable. In the event you are unable to attend\, store credit will be given. \n \nRange 54 Members: to receive the Range 54 membership discount on classes\, please register in the store. Discount is not available online.
URL:https://range54.com/event/kansas-carry-concealed-198/
LOCATION:Range 54\, 5725 East Kellogg Drive\, Wichita\, KS\, 67218\, United States
CATEGORIES:Training Classes
ATTACH;FMTTYPE=image/jpeg:https://range54.com/wp-content/uploads/2023/11/14989f27d984c0e0107703bbe3f13852.jpg
END:VEVENT
BEGIN:VEVENT
DTSTART;TZID=America/Chicago:20260516T080000
DTEND;TZID=America/Chicago:20260516T120000
DTSTAMP:20260423T103617
CREATED:20260326T194016Z
LAST-MODIFIED:20260326T194016Z
UID:10003050-1778918400-1778932800@range54.com
SUMMARY:Introductory Pistol
DESCRIPTION:This is a 4-hour class for those with little or no experience who desire to learn to shoot proficiently.\n\n\nCLASS: \n \nINTRODUCTORY PISTOL \n \nThe total price of this course is $100.00. \n \nThis is a 4-hour class for those with little or no experience who desire to learn to shoot proficiently. Our experienced and patient instructors will give you an in-depth understanding of firearms safety and basic fundamentals of marksmanship. Our primary goal for the student is to obtain a feeling of comfort and confidence in using a handgun. This is a live fire course where students are welcome to bring in their own handgun. \n \nGun and ammunition provided. \n \nClass fees are non-refundable. In the event you are unable to attend\, store credit will be given. \n \nRange 54 Members: to receive the Range 54 membership discount on classes\, please register in the store. Discount is not available online.
URL:https://range54.com/event/introductory-pistol-107/
LOCATION:Range 54\, 5725 East Kellogg Drive\, Wichita\, KS\, 67218\, United States
CATEGORIES:Training Classes
ATTACH;FMTTYPE=image/jpeg:https://range54.com/wp-content/uploads/2026/03/fee9579f0177a4e79c66c99b6b8f7c24.jpg
END:VEVENT
BEGIN:VEVENT
DTSTART;TZID=America/Chicago:20260518T180000
DTEND;TZID=America/Chicago:20260518T220000
DTSTAMP:20260423T103617
CREATED:20260326T194105Z
LAST-MODIFIED:20260326T194105Z
UID:10003052-1779127200-1779141600@range54.com
SUMMARY:Women Only Introductory Pistol
DESCRIPTION:This class gives female students the opportunity to learn how to shoot in a comfortable environment.\n\n\nCLASS: \n \nWomen Only Introductory Pistol \n \n \nThe total price of this course is $100.00 \n \n \n \nThis is a 4-hour guided experience which provides female students the opportunity to learn how to shoot in a comfortable environment\, surrounded by peers. Our instructors understand that everyone operates at different comfort levels around firearms and will work with students to ensure comfort while developing experience. Students will learn the 4 basic handgun safety rules\, safety at home and on the range\, proper shooting technique\, and discuss the gun that could best suit individual preferences and needs. \n \nGun and ammunition provided. \n \n \n \nClass fees are non-refundable. In the event you are unable to attend\, store credit will be given. \n \nRange 54 Members: to receive the Range 54 membership discount on classes\, please register in the store. Discount is not available online.
URL:https://range54.com/event/women-only-introductory-pistol-189/
LOCATION:Range 54\, 5725 East Kellogg Drive\, Wichita\, KS\, 67218\, United States
CATEGORIES:Training Classes
ATTACH;FMTTYPE=image/jpeg:https://range54.com/wp-content/uploads/2026/03/36602c96cd93b8e55891a26df03666b4.jpg
END:VEVENT
BEGIN:VEVENT
DTSTART;TZID=America/Chicago:20260523T080000
DTEND;TZID=America/Chicago:20260523T170000
DTSTAMP:20260423T103617
CREATED:20260326T194142Z
LAST-MODIFIED:20260326T194707Z
UID:10003054-1779523200-1779555600@range54.com
SUMMARY:Kansas Carry Concealed
DESCRIPTION:This class meets the requirements of the State of Kansas to obtain a CCH license.\n\n\nCLASS: \n \nKANSAS CARRY CONCEALED \n \nThe total price of this course is $100.00 \n \nArm yourself with knowledge. All of us want to have the ability to be able to protect ourselves and the people we care about while understanding our personal responsibilities as law-abiding gun owners. Range 54 specifically created this course to accomplish these exact objectives. Our instructors are highly experienced in preparing people of all backgrounds to have the confidence\, knowledge and skills to be able to safely carry a concealed handgun. This class meets the requirements of the State of Kansas to obtain a CCH license. The license is also recognized in 36 other states. This class will be taught in women-only and co-ed formats for the comfort of our students. \n \nClass Schedule: \nSaturday May 23\, 2025 8:00 AM – 5:00 PM \nClass fees are non-refundable. In the event you are unable to attend\, store credit will be given. \n \nRange 54 Members: to receive the Range 54 membership discount on classes\, please register in the store. Discount is not available online.
URL:https://range54.com/event/kansas-carry-concealed-199/
LOCATION:Range 54\, 5725 East Kellogg Drive\, Wichita\, KS\, 67218\, United States
CATEGORIES:Events,Training Classes
ATTACH;FMTTYPE=image/jpeg:https://range54.com/wp-content/uploads/2024/01/2c0edf04869b129bfdd2331de9b165b8.jpg
END:VEVENT
END:VCALENDAR